BEGIN:VCALENDAR
VERSION:2.0
PRODID:-//wp-events-plugin.com//7.2.3.1//EN
BEGIN:VEVENT
UID:48@clinsiel.de
DTSTART;TZID=Europe/Berlin:20181228T110000
DTEND;TZID=Europe/Berlin:20181228T170000
DTSTAMP:20181221T075650Z
URL:https://clinsiel.de/Veranstaltungen/wintertag-im-dshm/
SUMMARY:Wintertag im DSHM
DESCRIPTION:Am Freitag\, den 28. Dezember bieten die haupt- und ehrenamtlic
 hen Mitarbeiter des Museums den großen und kleinen Gästen von 11.00 bis 
 17.00 Uhr ein typisch winterliches Programm. In der Winterzeit\, in der di
 e Segelschiffe nicht zu den Frachtfahrten auslaufen konnten\, beschäftigt
 en sich die Schifferfamilien mit Werk- und Handarbeiten. Die Museumsbesuch
 er können es ihnen gleichtun und im Groot Hus Fliesen nach historischen V
 orlagen mit blauer Porzellanfarbe bemalen. Auch Schiffsporträts auf Leinw
 and werden nach den Vorlagen der sogenannten Kapitänsbilder im Kapitänsh
 aus erstellt oder Buddelschiffe und Windlichter gebaut. Im Kapitänshaus b
 ackt Tomke Janssen  außerdem ganz traditionell Neujahrskuchen. Hilfe bei
 m Aufrollen ist ihr sehr willkommen. Natürlich wird zu den Neujahrskuchen
  auch Ostfriesentee gereicht. Auch der historische „Tante-Emma-Laden“ 
 ist geöffnet. Kinder dürfen sich im Laden als Sieler Jungs und Wichter v
 erkleiden und nach Herzenslust einkaufen.
CATEGORIES:Event
LOCATION:Kapitänshaus Carolinensiel\, Am Hafen Ost\, Carolinensiel\, Niede
 rsachsen\, 26409\, Ostfriesland\, Deutschland
GEO:53.6912167;7.802563599999985
X-APPLE-STRUCTURED-LOCATION;VALUE=URI;X-ADDRESS=Am Hafen Ost\, Carolinensie
 l\, Niedersachsen\, 26409\, Ostfriesland\, Deutschland;X-APPLE-RADIUS=100;
 X-TITLE=Kapitänshaus Carolinensiel:geo:53.6912167,7.802563599999985
END:VEVENT
BEGIN:VTIMEZONE
TZID:Europe/Berlin
X-LIC-LOCATION:Europe/Berlin
BEGIN:STANDARD
DTSTART:20181028T020000
TZOFFSETFROM:+0200
TZOFFSETTO:+0100
TZNAME:CET
END:STANDARD
END:VTIMEZONE
END:VCALENDAR