BEGIN:VCALENDAR
VERSION:2.0
PRODID:-//wp-events-plugin.com//7.2.3.1//EN
BEGIN:VEVENT
UID:1933@clinsiel.de
DTSTART;TZID=Europe/Berlin:20230813T100000
DTEND;TZID=Europe/Berlin:20230813T170000
DTSTAMP:20230804T125218Z
URL:https://clinsiel.de/Veranstaltungen/wattensail-2023-3/
SUMMARY:WattenSail 2023
DESCRIPTION:\n
ATTACH;FMTTYPE=image/jpeg:https://clinsiel.de/wp-content/uploads/2023/08/W
 attensailPlakat.jpg
CATEGORIES:Event
LOCATION:Museumshafen Carolinensiel\, Am Hafen Ost\, Carolinensiel\, Nieder
 sachsen\, 26409\, Ostfriesland\, Deutschland
GEO:53.691217;7.802564
X-APPLE-STRUCTURED-LOCATION;VALUE=URI;X-ADDRESS=Am Hafen Ost\, Carolinensie
 l\, Niedersachsen\, 26409\, Ostfriesland\, Deutschland;X-APPLE-RADIUS=100;
 X-TITLE=Museumshafen Carolinensiel:geo:53.691217,7.802564
END:VEVENT
BEGIN:VTIMEZONE
TZID:Europe/Berlin
X-LIC-LOCATION:Europe/Berlin
BEGIN:DAYLIGHT
DTSTART:20230326T030000
TZOFFSETFROM:+0100
TZOFFSETTO:+0200
TZNAME:CEST
END:DAYLIGHT
END:VTIMEZONE
END:VCALENDAR