BEGIN:VCALENDAR
VERSION:2.0
PRODID:-//wp-events-plugin.com//7.2.3.1//EN
BEGIN:VEVENT
UID:1187@clinsiel.de
DTSTART;TZID=Europe/Berlin:20210729T190000
DTEND;TZID=Europe/Berlin:20210729T200000
DTSTAMP:20210726T123523Z
URL:https://clinsiel.de/Veranstaltungen/watt-skating-weltmeisterschaft/
SUMMARY:Watt-Skating-Weltmeisterschaft
DESCRIPTION:Watt-Skating ist zwar noch nicht olympisch\, aber das war Skate
 boarden lange auch nicht – jetzt ist der Sport in Tokyo erstmals vertret
 en. Passend zum Olympischen Motto „Dabei sein ist alles“ und mit einem
  Augenzwinkern werden daher am Donnerstag die Watt-Skating-Weltmeisterscha
 ften in Harlesiel ausgetragen. Denn echte Nordsee-Fans skaten im Watt\, be
 tonen die Veranstalter.\n\nDer Spaß-Wettbewerb\, der erstmals 2019 durchg
 eführt wurde (Bericht auf Clinsiel.de)\, wird in drei Gruppen ausgetragen
 : Kinder\, Damen und Herren. Jeweils zwei Schlick-Sportler treten mit Watt
 socken oder Neoprenschuhen im K.o-System gegeneinander an und müssen im S
 kating-Schritt rund 75 Meter ins Watt hinaus und wieder zurück schlittern
 . Dreckige Kleidung und ganz viel Spaß sind garantiert.\n\nMehr Info / An
 meldung
CATEGORIES:Event
LOCATION:Strand\, Am Harlesiel\, Harlesiel\, Niedersachsen\, 26409\, Ostfri
 esland\, Deutschland
GEO:53.70968;7.807831
X-APPLE-STRUCTURED-LOCATION;VALUE=URI;X-ADDRESS=Am Harlesiel\, Harlesiel\, 
 Niedersachsen\, 26409\, Ostfriesland\, Deutschland;X-APPLE-RADIUS=100;X-TI
 TLE=Strand:geo:53.70968,7.807831
END:VEVENT
BEGIN:VTIMEZONE
TZID:Europe/Berlin
X-LIC-LOCATION:Europe/Berlin
BEGIN:DAYLIGHT
DTSTART:20210328T030000
TZOFFSETFROM:+0100
TZOFFSETTO:+0200
TZNAME:CEST
END:DAYLIGHT
END:VTIMEZONE
END:VCALENDAR