BEGIN:VCALENDAR
VERSION:2.0
PRODID:-//wp-events-plugin.com//7.2.3.1//EN
BEGIN:VEVENT
UID:47@clinsiel.de
DTSTART;TZID=Europe/Berlin:20181227T163000
DTEND;TZID=Europe/Berlin:20181227T180000
DTSTAMP:20181221T075745Z
URL:https://clinsiel.de/Veranstaltungen/wandellesung-mit-zitaten-aus-dem-r
 oman-windiger-siel/
SUMMARY:Wandellesung mit Zitaten aus dem Roman „Windiger Siel“
DESCRIPTION:Das Kapitänshaus ist auch Schauplatz einer ganz besonderen Fü
 hrung am Donnerstag\, 27. Dezember um 16.30 Uhr. In Form einer Wandellesun
 g mit Zitaten aus dem Roman „Windiger Siel“ der Kapitänstochter Marie
  Ulfers erklärt die Museumsleiterin Dr. Heike Ritter-Eden Räume und Einr
 ichtung und nimmt ihre Gäste mit auf eine Zeitreise in das 19. Jahrhunder
 t. In der Schifferkneipe wird dazu Tee gereicht.\nKarten zu der Lesung sin
 d im Vorverkauf im Museumsladen im Groot Hus erhältlich.
CATEGORIES:Vortrag,Wintermarkt
LOCATION:Kapitänshaus Carolinensiel\, Am Hafen Ost\, Carolinensiel\, Niede
 rsachsen\, 26409\, Ostfriesland\, Deutschland
GEO:53.6912167;7.802563599999985
X-APPLE-STRUCTURED-LOCATION;VALUE=URI;X-ADDRESS=Am Hafen Ost\, Carolinensie
 l\, Niedersachsen\, 26409\, Ostfriesland\, Deutschland;X-APPLE-RADIUS=100;
 X-TITLE=Kapitänshaus Carolinensiel:geo:53.6912167,7.802563599999985
END:VEVENT
BEGIN:VTIMEZONE
TZID:Europe/Berlin
X-LIC-LOCATION:Europe/Berlin
BEGIN:STANDARD
DTSTART:20181028T020000
TZOFFSETFROM:+0200
TZOFFSETTO:+0100
TZNAME:CET
END:STANDARD
END:VTIMEZONE
END:VCALENDAR