BEGIN:VCALENDAR
VERSION:2.0
PRODID:-//wp-events-plugin.com//7.2.3.1//EN
BEGIN:VEVENT
UID:2059@clinsiel.de
DTSTART;TZID=Europe/Berlin:20240719T190000
DTEND;TZID=Europe/Berlin:20240719T210000
DTSTAMP:20240715T133729Z
URL:https://clinsiel.de/Veranstaltungen/tee-bei-marie/
SUMMARY:Tee bei Marie
DESCRIPTION:Tee bei Marie\n\n[caption id="attachment_8403" align="alignleft
 " width="224"] Marie Ulfers auf einem Foto von 1913 in der Ausstellung „
 Carolinensiel – das Tor zur Welt“[/caption]\n\nLiterarische Führung d
 urch das Kapitänshaus des Deutschen Sielhafenmuseums\n\nAm Freitag\, 19.7
 . um 19 Uhr bietet das Deutsche Sielhafenmuseum in Carolinensiel im Rahmen
  seiner Veranstaltungsreihe „freitags im Museum“ die literarische Füh
 rung „Tee bei Marie“ durch das Kapitänshaus an. Auf den Spuren des Ro
 mans „Windiger Siel“ von Kapitänstochter und Heimatschriftstellerin M
 arie Ulfers (1880-1960) tauchen die Gäste bei einer Tasse Ostfriesentee e
 in in die Blütezeit der Handelsschifffahrt im 19. Jahrhundert. Sie erlebe
 n in der Schifferkneipe und bei dem anschließenden Rundgang durch das Kap
 itänshaus Freud und Leid der Carolinensieler Familien und begeben sich au
 f Spurensuche nach der Familie Ulfers.\n\nKarten sind an der Abendkasse un
 d vergünstigt im Vorverkauf unter www.carolinensiel.de oder 04464-86930 e
 rhältlich. Weitere Informationen unter www.dshm.de/Programm/Termine.\nhtt
 ps://clinsiel.de/19-7-24-tee-bei-marie/
ATTACH;FMTTYPE=image/jpeg:https://clinsiel.de/wp-content/uploads/2018/05/K
 Marie-Ulfers-1913.jpg
CATEGORIES:Führung,Museum
LOCATION:Kapitänshaus Carolinensiel\, Am Hafen Ost\, Carolinensiel\, Niede
 rsachsen\, 26409\, Ostfriesland\, Deutschland
GEO:53.6912167;7.802563599999985
X-APPLE-STRUCTURED-LOCATION;VALUE=URI;X-ADDRESS=Am Hafen Ost\, Carolinensie
 l\, Niedersachsen\, 26409\, Ostfriesland\, Deutschland;X-APPLE-RADIUS=100;
 X-TITLE=Kapitänshaus Carolinensiel:geo:53.6912167,7.802563599999985
END:VEVENT
BEGIN:VTIMEZONE
TZID:Europe/Berlin
X-LIC-LOCATION:Europe/Berlin
BEGIN:DAYLIGHT
DTSTART:20240331T030000
TZOFFSETFROM:+0100
TZOFFSETTO:+0200
TZNAME:CEST
END:DAYLIGHT
END:VTIMEZONE
END:VCALENDAR