BEGIN:VCALENDAR
VERSION:2.0
PRODID:-//wp-events-plugin.com//7.2.3.1//EN
BEGIN:VEVENT
UID:62@clinsiel.de
DTSTART;TZID=Europe/Berlin:20190126T140000
DTEND;TZID=Europe/Berlin:20190126T140000
DTSTAMP:20190113T142756Z
URL:https://clinsiel.de/Veranstaltungen/neujahrsempfang/
SUMMARY:Neujahrsempfang
DESCRIPTION:
ATTACH;FMTTYPE=image/jpeg:https://clinsiel.de/wp-content/uploads/2019/01/K
 dcb1f489-203d-4060-8847-e2ac587ac45c.jpg
CATEGORIES:Event
LOCATION:aCliner Quelle\, Cliner Quelle\, Carolinensiel\, Deutschland\, 264
 09\, Ostfriesland\, Deutschland
X-APPLE-STRUCTURED-LOCATION;VALUE=URI;X-ADDRESS=Cliner Quelle\, Carolinensi
 el\, Deutschland\, 26409\, Ostfriesland\, Deutschland;X-APPLE-RADIUS=100;X
 -TITLE=aCliner Quelle:geo:0,0
END:VEVENT
BEGIN:VTIMEZONE
TZID:Europe/Berlin
X-LIC-LOCATION:Europe/Berlin
BEGIN:STANDARD
DTSTART:20181028T020000
TZOFFSETFROM:+0200
TZOFFSETTO:+0100
TZNAME:CET
END:STANDARD
END:VTIMEZONE
END:VCALENDAR