BEGIN:VCALENDAR
VERSION:2.0
PRODID:-//wp-events-plugin.com//7.2.3.1//EN
BEGIN:VEVENT
UID:449@clinsiel.de
DTSTART;TZID=Europe/Berlin:20190712T201500
DTEND;TZID=Europe/Berlin:20190712T201500
DTSTAMP:20190127T081313Z
URL:https://clinsiel.de/Veranstaltungen/ndr-nordstory-3/
SUMMARY:NDR.Nordstory
DESCRIPTION:Ein NDR Fernsehteam begleitete 2018 zahlreiche Veranstaltungen 
 in Carolinensiel
CATEGORIES:Highlight 2019
END:VEVENT
BEGIN:VTIMEZONE
TZID:Europe/Berlin
X-LIC-LOCATION:Europe/Berlin
BEGIN:DAYLIGHT
DTSTART:20190331T030000
TZOFFSETFROM:+0100
TZOFFSETTO:+0200
TZNAME:CEST
END:DAYLIGHT
END:VTIMEZONE
END:VCALENDAR