BEGIN:VCALENDAR
VERSION:2.0
PRODID:-//wp-events-plugin.com//7.2.3.1//EN
BEGIN:VEVENT
UID:1188@clinsiel.de
DTSTART;TZID=Europe/Berlin:20210804T140000
DTEND;TZID=Europe/Berlin:20210804T160000
DTSTAMP:20210802T132449Z
URL:https://clinsiel.de/Veranstaltungen/miss-carolinchen-wahl-2021/
SUMMARY:Miss Carolinchen-Wahl 2021
DESCRIPTION:[caption id="attachment_16592" align="alignleft" width="261"] M
 iss Carolinchen-Wahl 2019\, Gewinnerinnen v.l.n.r. Ann-Kathrin Schmidt aus
  Sehnde und Sarah Klipper aus BochumFoto: Claudia Schmidt[/caption]\n\nAm 
 Mittwoch\, den 04. August 2021\, ab 14.00 Uhr\, findet am Strand von Harle
 siel die 12. „Miss-Carolinchen-Wahl“ statt.\n\nEs sind noch Plätze fr
 ei! Meldet Euch an unter 04464 9493-0.\n\nWir suchen noch fröhliche\, kre
 ative Mädchen zwischen 6 und 12 Jahren\, die sich dieser Herausforderung 
 stellen wollen. Wie werdet Ihr Miss Carolinchen? Nach einer persönlichen 
 Fragerunde mit unserer Moderatorin\, werden die Anwärterinnen verschieden
 e Aufgaben\, die Sportlichkeit und Geschick abverlangen\, ausführen.\n\n.
 .. mehr &gt\;&gt\;&gt\;&gt\;&gt\;&gt\; https://clinsiel.de/miss-carolinche
 n-wahl-2021/
ATTACH;FMTTYPE=image/jpeg:https://clinsiel.de/wp-content/uploads/2021/08/K
 DSC03400.jpg
CATEGORIES:Event
LOCATION:Strand\, Am Harlesiel\, Harlesiel\, Niedersachsen\, 26409\, Ostfri
 esland\, Deutschland
GEO:53.70968;7.807831
X-APPLE-STRUCTURED-LOCATION;VALUE=URI;X-ADDRESS=Am Harlesiel\, Harlesiel\, 
 Niedersachsen\, 26409\, Ostfriesland\, Deutschland;X-APPLE-RADIUS=100;X-TI
 TLE=Strand:geo:53.70968,7.807831
END:VEVENT
BEGIN:VTIMEZONE
TZID:Europe/Berlin
X-LIC-LOCATION:Europe/Berlin
BEGIN:DAYLIGHT
DTSTART:20210328T030000
TZOFFSETFROM:+0100
TZOFFSETTO:+0200
TZNAME:CEST
END:DAYLIGHT
END:VTIMEZONE
END:VCALENDAR