BEGIN:VCALENDAR
VERSION:2.0
PRODID:-//wp-events-plugin.com//7.2.3.1//EN
BEGIN:VEVENT
UID:450@clinsiel.de
DTSTART;TZID=Europe/Berlin:20190409T190000
DTEND;TZID=Europe/Berlin:20190409T210000
DTSTAMP:20190131T090850Z
URL:https://clinsiel.de/Veranstaltungen/krimilesung-mit-gaby-kaden/
SUMMARY:Krimilesung mit Gaby Kaden
DESCRIPTION:Spannende Krimilesung aus dem Kriminalroman "KüstenSpur" und m
 ehr\,\nvon und mit Gaby Kaden\,  in der alten Seemannskneipe im Kaptänsh
 aus.\n\nKarten erhalten Sie in der Cliner Quelle.\nEintritt 7\,50€ p.Per
 son\n...und immer wartet eine kleine Überraschung auf die Gäste!
ATTACH;FMTTYPE=image/jpeg:https://clinsiel.de/wp-content/uploads/2019/01/9
 78-3-8271-9490-9-frontcover_prev.jpg
CATEGORIES:Autorenlesung
LOCATION:Kapitänshaus Carolinensiel\, Am Hafen Ost\, Carolinensiel\, Niede
 rsachsen\, 26409\, Ostfriesland\, Deutschland
GEO:53.6912167;7.802563599999985
X-APPLE-STRUCTURED-LOCATION;VALUE=URI;X-ADDRESS=Am Hafen Ost\, Carolinensie
 l\, Niedersachsen\, 26409\, Ostfriesland\, Deutschland;X-APPLE-RADIUS=100;
 X-TITLE=Kapitänshaus Carolinensiel:geo:53.6912167,7.802563599999985
END:VEVENT
BEGIN:VTIMEZONE
TZID:Europe/Berlin
X-LIC-LOCATION:Europe/Berlin
BEGIN:DAYLIGHT
DTSTART:20190331T030000
TZOFFSETFROM:+0100
TZOFFSETTO:+0200
TZNAME:CEST
END:DAYLIGHT
END:VTIMEZONE
END:VCALENDAR