BEGIN:VCALENDAR
VERSION:2.0
PRODID:-//wp-events-plugin.com//7.2.3.1//EN
BEGIN:VEVENT
UID:61@clinsiel.de
DTSTART;TZID=Europe/Berlin:20190302T150000
DTEND;TZID=Europe/Berlin:20190302T150000
DTSTAMP:20190210T092015Z
URL:https://clinsiel.de/Veranstaltungen/kinderkarneval-helau-und-alaaf/
SUMMARY:Kinderkarneval - Helau und Alaaf
DESCRIPTION:[caption id="attachment_6264" align="alignleft" width="640"] Fo
 to: G. Ziemann[/caption]\n\nEs ist wieder soweit! Wir\, das heißt der Bad
 e &amp\; Verkehrsverein Carolinensiel e.V.\, möchten mit Euch einen tolle
 n Kinderkarnevalsnachmittag feiern. Hierzu lädt der Verein alle Kinder un
 d Eltern am Samstag\, den 02. März 2019 von 15:00 Uhr bis ca. 17:00 Uhr i
 n die Cliner Quelle Carolinensiel ein.\n\nDer Eintritt ist frei und für j
 edes Kind gibt es ein Freigetränk.\n\nBei guter Musik darf wieder viel ge
 spielt und getanzt werden. Als Höhepunkt wird das Prinzenpaar 2019 gewäh
 lt.\n\nAuf Euren Besuch und vor allem auf Eure Kostüme freut sich der Vor
 stand vom Bade &amp\; Verkehrsverein.
ATTACH;FMTTYPE=image/jpeg:https://clinsiel.de/wp-content/uploads/2018/02/K
 IMG_0402.jpg
CATEGORIES:Event
LOCATION:Cliner Quelle\, Am Kurzentrum\, Carolinensiel\, Niedersachsen\, 26
 409\, Ostfriesland\, Deutschland
GEO:53.69621943269724;7.805929347113079
X-APPLE-STRUCTURED-LOCATION;VALUE=URI;X-ADDRESS=Am Kurzentrum\, Carolinensi
 el\, Niedersachsen\, 26409\, Ostfriesland\, Deutschland;X-APPLE-RADIUS=100
 ;X-TITLE=Cliner Quelle:geo:53.69621943269724,7.805929347113079
END:VEVENT
BEGIN:VTIMEZONE
TZID:Europe/Berlin
X-LIC-LOCATION:Europe/Berlin
BEGIN:STANDARD
DTSTART:20181028T020000
TZOFFSETFROM:+0200
TZOFFSETTO:+0100
TZNAME:CET
END:STANDARD
END:VTIMEZONE
END:VCALENDAR