BEGIN:VCALENDAR
VERSION:2.0
PRODID:-//wp-events-plugin.com//7.2.3.1//EN
BEGIN:VEVENT
UID:465@clinsiel.de
DTSTART;TZID=Europe/Berlin:20190222T200000
DTEND;TZID=Europe/Berlin:20190222T213000
DTSTAMP:20190210T091448Z
URL:https://clinsiel.de/Veranstaltungen/gaby-kaden-liest-im-stephanus-haus
 -hohenkirchen/
SUMMARY:Gaby Kaden liest im Stephanus-Haus Hohenkirchen
DESCRIPTION:Lesung in der Kirchenbücherei Hohenkirchen - Freitag\, 22.02.2
 019 um 20 Uhr\n
ATTACH;FMTTYPE=image/jpeg:https://clinsiel.de/wp-content/uploads/2019/01/9
 78-3-8271-9490-9-frontcover_prev.jpg
CATEGORIES:Autorenlesung
LOCATION:Kirchenbücherei Hohenkirchen\, Jeversche Str. 25\, Hohenkirchen\,
  Niedersachsen\, 26409\, Ostfriesland\, Deutschland
GEO:53.65967;7.916719999999941
X-APPLE-STRUCTURED-LOCATION;VALUE=URI;X-ADDRESS=Jeversche Str. 25\, Hohenki
 rchen\, Niedersachsen\, 26409\, Ostfriesland\, Deutschland;X-APPLE-RADIUS=
 100;X-TITLE=Kirchenbücherei Hohenkirchen:geo:53.65967,7.916719999999941
END:VEVENT
BEGIN:VTIMEZONE
TZID:Europe/Berlin
X-LIC-LOCATION:Europe/Berlin
BEGIN:STANDARD
DTSTART:20181028T020000
TZOFFSETFROM:+0200
TZOFFSETTO:+0100
TZNAME:CET
END:STANDARD
END:VTIMEZONE
END:VCALENDAR