BEGIN:VCALENDAR
VERSION:2.0
PRODID:-//wp-events-plugin.com//7.2.3.1//EN
BEGIN:VEVENT
UID:1186@clinsiel.de
DTSTART;TZID=Europe/Berlin:20210726T093000
DTEND;TZID=Europe/Berlin:20210730T160000
DTSTAMP:20210629T084031Z
URL:https://clinsiel.de/Veranstaltungen/fussballcamp-2/
SUMMARY:Fussballcamp
DESCRIPTION:Vom 19. - 23. und vom 26. - 30. Juli findet jeweils ein Fussbal
 lcamp in Carolinensiel statt.\nWie IHR einen Gutschein gewinnen könnt... 
 weiter unten.\nDie Fussballschmiede veranstaltet in Zusammenarbeit mit dem
  TSV Jahn zwei Fussballcamps in Carolinensiel.\nDie Fussballschule wurde v
 on dem ex. Schalker Profispieler Ingo Anderbrügge im Jahr 1997 gegründet
 . Ingo Anderbrügge wurde 1997 mit Schalke UEFA-Pokaksieger.\nDas Camp in 
 Clinsiel wird von Uli Turowski und Gunter Schmid geleitet.\nDas Trainingca
 mp ist alters - und leistungsgerecht und wird stets mit einem qualifiziert
 en und intern geschulten Trainerteam durchgeführt und richten sich an all
 e fußballbegeisterten Jungen und Mädchen im Alter von 5 bis 15 Jahren.\n
 \nDas Motto der Fussballschule: Lernen durch Sport für Schule\, Alltag un
 d Beruf. \nWir machen keine Profis\, sondern bereiten auf das Leben vor. 
 Denn Normen und Werte sowie ein gesunder Lebensstil zählen immer und übe
 rall.\n\nIn kleinen Workshops während den Veranstaltungen erarbeiten alle
  gemeinsam Themen und Werte\, die im Sport und im Leben von Bedeutung sind
 .\n\nInklusive:\n\n 	5 Trainingseinheiten an 5 Tagen\n 	Fußballworkshops\
 n 	Getränke\, Urkunde und Pokale\n\nAusstattung:\n\n 	Trikot\n 	Hybrid-Tr
 ainingsball\n 	Trinkflasche\n\nAnmeldung und weitere Infos:\nhttps://www.f
 ussballfabrik.com/camps/tsv-jahn-carolinensiel/a-1846 -  Camp vom 19.-23.
 7.2021\nhttps://www.fussballfabrik.com/camps/tsv-jahn-carolinensiel/a-1847
  -  Camp vom 26.-30.7.2021\nGutschein gewinnen\nWenn ihr vom 19.- 23. Jul
 i in Carolinensiel seit und an allen Tagen ab 9\,30 Uhr Zeit habt\, sowie 
 im Alter von 5 - 15 Jahren seit dann könnt ihr euch um eine kostenlose Te
 ilnahme bewerben.\n\nSchickt eine Mail an: info@clinsiel.de und schreibt u
 ns warum IHR einen Gutschein gewinnen möchtet.\nUnter allen Einsendungen 
 bis zum 12. Juli (24 Uhr) werden wir einen Gutschein verlosen.
ATTACH;FMTTYPE=image/jpeg:https://clinsiel.de/wp-content/uploads/2021/06/K
 fussballcamp.png
CATEGORIES:Event,Sport
LOCATION:TSV Stadion "Cliner Wind"\, Wittmunder Straße\, Carolinensiel\, D
 eutschland\, 26409\, 10\, Deutschland
GEO:53.689357;7.797336
X-APPLE-STRUCTURED-LOCATION;VALUE=URI;X-ADDRESS=Wittmunder Straße\, Caroli
 nensiel\, Deutschland\, 26409\, 10\, Deutschland;X-APPLE-RADIUS=100;X-TITL
 E=TSV Stadion \"Cliner Wind\":geo:53.689357,7.797336
END:VEVENT
BEGIN:VTIMEZONE
TZID:Europe/Berlin
X-LIC-LOCATION:Europe/Berlin
BEGIN:DAYLIGHT
DTSTART:20210328T030000
TZOFFSETFROM:+0100
TZOFFSETTO:+0200
TZNAME:CEST
END:DAYLIGHT
END:VTIMEZONE
END:VCALENDAR