BEGIN:VCALENDAR
VERSION:2.0
PRODID:-//wp-events-plugin.com//7.2.3.1//EN
BEGIN:VEVENT
UID:1106@clinsiel.de
DTSTART;TZID=Europe/Berlin:20210313T100000
DTEND;TZID=Europe/Berlin:20210313T120000
DTSTAMP:20210310T081827Z
URL:https://clinsiel.de/Veranstaltungen/fruehjahrsputz-in-clinsiel/
SUMMARY:Frühjahrsputz in Clinsiel
DESCRIPTION:[caption id="attachment_8251" align="alignleft" width="311"] M
 üll Sammelaktion in 2017Foto: Claudia Schmidt[/caption]\n\nWegen Corona w
 urde der städtische Frühjahrsputz nun zum 2. Mal abgesagt.\nEs spricht a
 ber nichts dagegen\, dass wir uns mal wieder zum Müllsammeln treffen\, um
  unsere Gewässerränder und Gräben von Plastikmüll\nzu befreien.\nFür 
 den 13. März wurde mit der Nordseebad GmbH verabredet\, dass wir uns um 1
 0 Uhr in der Bahnhofstraße 40 treffen. Zu den üblichen Untensilien wie G
 reifer\, Handschuhe und festes Schuhwerk kommt selbstverständlich die Mas
 ke! Wir werden dann Zweiergruppen bilden\, sofern ihr nicht als Angehörig
 e eines Haushalts teilnehmen wollt. Jedes Paar nimmt sich dann eine bestim
 mte Strecke vor\, bevor unsere Aktion mit dem Zusammentragen des Mülls zw
 ischen 12 Uhr und 12.30 Uhr am Spielplatz in Harlesiel endet.\nSchade\, da
 ss wir uns wohl auch Mitte März noch nicht im 'Wattkieker' zum gemeinsame
 n Essen werden niederlassen können.\nBittet meldet euch unter meiner Tele
 fonnummer : 04464/235 bis zum 12. März an.
ATTACH;FMTTYPE=image/jpeg:https://clinsiel.de/wp-content/uploads/2019/09/K
 IMG_2792.jpg
CATEGORIES:Event
LOCATION:Carolinensiel Bahnhofstrasse\, Bahnhofstrasse\, Carolinensiel\, De
 utschland\, 26409\, Ostfriesland\, Deutschland
GEO:53.69083601026898;7.80302111475828
X-APPLE-STRUCTURED-LOCATION;VALUE=URI;X-ADDRESS=Bahnhofstrasse\, Carolinens
 iel\, Deutschland\, 26409\, Ostfriesland\, Deutschland;X-APPLE-RADIUS=100;
 X-TITLE=Carolinensiel Bahnhofstrasse:geo:53.69083601026898,7.8030211147582
 8
END:VEVENT
BEGIN:VTIMEZONE
TZID:Europe/Berlin
X-LIC-LOCATION:Europe/Berlin
BEGIN:STANDARD
DTSTART:20201025T020000
TZOFFSETFROM:+0200
TZOFFSETTO:+0100
TZNAME:CET
END:STANDARD
END:VTIMEZONE
END:VCALENDAR