BEGIN:VCALENDAR
VERSION:2.0
PRODID:-//wp-events-plugin.com//7.2.3.1//EN
BEGIN:VEVENT
UID:1974@clinsiel.de
DTSTART;TZID=Europe/Berlin:20231204T183000
DTEND;TZID=Europe/Berlin:20231204T203000
DTSTAMP:20231123T102250Z
URL:https://clinsiel.de/Veranstaltungen/einladung-zu-einer-informationsver
 anstaltung/
SUMMARY:Einladung zu einer Informationsveranstaltung
DESCRIPTION:Einladung zu einer Informationsveranstaltung am Montag\, dem 04
 .12.2023\, um 18.30 Uhr\, in der Aula der Grundschule Carolinensiel\, Witt
 munder Straße 22\, 26409 Wittmund\n\nhier: Vorstellung der geplanten Gro
 ßbaumaßnahmen in der Ortschaft Carolinensiel-Harlesiel in den nächsten 
 Jahren\n\n...mehr&gt\;&gt\;&gt\;&gt\;
CATEGORIES:Event
LOCATION:Marie Ulfers Schule - Carolinensiel\, Wittmunder Str. 22\, Carolin
 ensiel\, Deutschland\, 26409\, Ostfriesland\, Deutschland
GEO:53.68875999999999;7.7988900000000285
X-APPLE-STRUCTURED-LOCATION;VALUE=URI;X-ADDRESS=Wittmunder Str. 22\, Caroli
 nensiel\, Deutschland\, 26409\, Ostfriesland\, Deutschland;X-APPLE-RADIUS=
 100;X-TITLE=Marie Ulfers Schule - Carolinensiel:geo:53.68875999999999,7.79
 88900000000285
END:VEVENT
BEGIN:VTIMEZONE
TZID:Europe/Berlin
X-LIC-LOCATION:Europe/Berlin
BEGIN:STANDARD
DTSTART:20231029T020000
TZOFFSETFROM:+0200
TZOFFSETTO:+0100
TZNAME:CET
END:STANDARD
END:VTIMEZONE
END:VCALENDAR