BEGIN:VCALENDAR
VERSION:2.0
PRODID:-//wp-events-plugin.com//7.2.3.1//EN
BEGIN:VEVENT
UID:101@clinsiel.de
DTSTART;TZID=Europe/Berlin:20190128T160000
DTEND;TZID=Europe/Berlin:20190128T160000
DTSTAMP:20190127T153510Z
URL:https://clinsiel.de/Veranstaltungen/ausstellungseroeffnung/
SUMMARY:Ausstellungseröffnung
DESCRIPTION:\n\nAm 28. Jan. um 16 Uhr wird die Ausstellung offiziell eröff
 net.\nZu sehe ist Sie in der Saison ab 23. März\, sowie über die Karneva
 lstage.
ATTACH;FMTTYPE=image/jpeg:https://clinsiel.de/wp-content/uploads/2019/01/K
 Mammens_Groot-Hus_Ausstellungsplakat_fertig.png
CATEGORIES:Ausstellung,Ausstellungseröffnung
LOCATION:Groot Hus\, Am Hafen Ost\, Carolinensiel\, Deutschland\, 26409\, O
 stfriesland\, Deutschland
X-APPLE-STRUCTURED-LOCATION;VALUE=URI;X-ADDRESS=Am Hafen Ost\, Carolinensie
 l\, Deutschland\, 26409\, Ostfriesland\, Deutschland;X-APPLE-RADIUS=100;X-
 TITLE=Groot Hus:geo:0,0
END:VEVENT
BEGIN:VTIMEZONE
TZID:Europe/Berlin
X-LIC-LOCATION:Europe/Berlin
BEGIN:STANDARD
DTSTART:20181028T020000
TZOFFSETFROM:+0200
TZOFFSETTO:+0100
TZNAME:CET
END:STANDARD
END:VTIMEZONE
END:VCALENDAR